BEGIN:VCALENDAR
VERSION:2.0
PRODID:spatie/icalendar-generator
NAME:Connected! Avintis Digitalisierungsplattform [IFAS 2024]
X-WR-CALNAME:Connected! Avintis Digitalisierungsplattform [IFAS 2024]
BEGIN:VTIMEZONE
TZID:Europe/Zurich
BEGIN:DAYLIGHT
DTSTART:20240331T020000
TZOFFSETFROM:+0100
TZOFFSETTO:+0200
END:DAYLIGHT
BEGIN:STANDARD
DTSTART:20241027T030000
TZOFFSETFROM:+0200
TZOFFSETTO:+0100
END:STANDARD
BEGIN:DAYLIGHT
DTSTART:20250330T020000
TZOFFSETFROM:+0100
TZOFFSETTO:+0200
END:DAYLIGHT
END:VTIMEZONE
BEGIN:VTIMEZONE
TZID:UTC
BEGIN:STANDARD
DTSTART:20250728T193511
TZOFFSETFROM:+0000
TZOFFSETTO:+0000
END:STANDARD
END:VTIMEZONE
BEGIN:VEVENT
UID:69ebc5ef6f397
DTSTAMP:20260424T193511Z
DTSTART;TZID=Europe/Zurich:20241022T133000
DTEND;TZID=Europe/Zurich:20241022T135000
SUMMARY:Connected! Avintis Digitalisierungsplattform [IFAS 2024]
DESCRIPTION:https://www.ifas-expo.ch/de/e/connected-avintis-digitalisierung
 splattform.56624\n\nAvintis als langjähriger Integrationsspezialist präs
 entiert den Lösungsansatz Connected! Um eine gute Vernetzung zu erreichen
 \, braucht es eine Lösungsarchitektur\, die dafür sorgt\, dass interne u
 nd externe Prozesse nahtlos und applikationsübergreifend verknüpft sind.
LOCATION:Speakers Corner\, Halle 6
END:VEVENT
END:VCALENDAR