BEGIN:VCALENDAR
VERSION:2.0
PRODID:spatie/icalendar-generator
NAME:Digitale Gesundheits-App BENECURA [IFAS 2022]
X-WR-CALNAME:Digitale Gesundheits-App BENECURA [IFAS 2022]
BEGIN:VTIMEZONE
TZID:Europe/Zurich
BEGIN:DAYLIGHT
DTSTART:20220327T020000
TZOFFSETFROM:+0100
TZOFFSETTO:+0200
END:DAYLIGHT
BEGIN:STANDARD
DTSTART:20221030T030000
TZOFFSETFROM:+0200
TZOFFSETTO:+0100
END:STANDARD
BEGIN:DAYLIGHT
DTSTART:20230326T020000
TZOFFSETFROM:+0100
TZOFFSETTO:+0200
END:DAYLIGHT
END:VTIMEZONE
BEGIN:VTIMEZONE
TZID:UTC
BEGIN:STANDARD
DTSTART:20250726T150151
TZOFFSETFROM:+0000
TZOFFSETTO:+0000
END:STANDARD
END:VTIMEZONE
BEGIN:VEVENT
UID:69e8e2df1ff5b
DTSTAMP:20260422T150151Z
DTSTART;TZID=Europe/Zurich:20221027T110000
DTEND;TZID=Europe/Zurich:20221027T120000
SUMMARY:Digitale Gesundheits-App BENECURA [IFAS 2022]
DESCRIPTION:https://www.ifas-expo.ch/de/e/digitale-gesundheits-app-benecura
 .26983\n\nBENECURA ist die App\, welche bereits von rund 100'000 Personen 
 rund um die eigene Gesundheit eingesetzt wird. Sie enthält viele Services
  wie Symptom-\, Vorsorge-Check\, Gesundheitsdossier\, Medikamente- und ein
  Gesundheitslexikon.
LOCATION:Dome 1 | Halle 5
END:VEVENT
END:VCALENDAR